BEGIN:VCALENDAR
VERSION:2.0
PRODID:-//Spoon River College - ECPv6.15.17.1//NONSGML v1.0//EN
CALSCALE:GREGORIAN
METHOD:PUBLISH
X-WR-CALNAME:Spoon River College
X-ORIGINAL-URL:https://www.src.edu
X-WR-CALDESC:Events for Spoon River College
REFRESH-INTERVAL;VALUE=DURATION:PT1H
X-Robots-Tag:noindex
X-PUBLISHED-TTL:PT1H
BEGIN:VTIMEZONE
TZID:America/Chicago
BEGIN:DAYLIGHT
TZOFFSETFROM:-0600
TZOFFSETTO:-0500
TZNAME:CDT
DTSTART:20220313T080000
END:DAYLIGHT
BEGIN:STANDARD
TZOFFSETFROM:-0500
TZOFFSETTO:-0600
TZNAME:CST
DTSTART:20221106T070000
END:STANDARD
BEGIN:DAYLIGHT
TZOFFSETFROM:-0600
TZOFFSETTO:-0500
TZNAME:CDT
DTSTART:20230312T080000
END:DAYLIGHT
BEGIN:STANDARD
TZOFFSETFROM:-0500
TZOFFSETTO:-0600
TZNAME:CST
DTSTART:20231105T070000
END:STANDARD
BEGIN:DAYLIGHT
TZOFFSETFROM:-0600
TZOFFSETTO:-0500
TZNAME:CDT
DTSTART:20240310T080000
END:DAYLIGHT
BEGIN:STANDARD
TZOFFSETFROM:-0500
TZOFFSETTO:-0600
TZNAME:CST
DTSTART:20241103T070000
END:STANDARD
END:VTIMEZONE
BEGIN:VEVENT
DTSTART;TZID=America/Chicago:20230417T180000
DTEND;TZID=America/Chicago:20230417T190000
DTSTAMP:20260424T145600
CREATED:20230302T191431Z
LAST-MODIFIED:20230302T191431Z
UID:8941-1681754400-1681758000@www.src.edu
SUMMARY:Phi Theta Kappa Induction Ceremony
DESCRIPTION:The annual Induction Ceremony for Phi Theta Kappa will be held on Monday\, April 17\, at 6 PM in lower level Centers in Canton.
URL:https://www.src.edu/event/phi-theta-kappa-induction-ceremony
LOCATION:Canton Campus\, lower level Centers\, 23235 N County Highway 22\, Canton\, IL\, 61520\, United States
ATTACH;FMTTYPE=image/jpeg:https://www.src.edu/wp-content/uploads/2022/07/DSC08891-scaled.jpg
END:VEVENT
END:VCALENDAR