BEGIN:VCALENDAR
VERSION:2.0
PRODID:-//Spoon River College - ECPv6.15.17.1//NONSGML v1.0//EN
CALSCALE:GREGORIAN
METHOD:PUBLISH
X-WR-CALNAME:Spoon River College
X-ORIGINAL-URL:https://www.src.edu
X-WR-CALDESC:Events for Spoon River College
REFRESH-INTERVAL;VALUE=DURATION:PT1H
X-Robots-Tag:noindex
X-PUBLISHED-TTL:PT1H
BEGIN:VTIMEZONE
TZID:America/Chicago
BEGIN:DAYLIGHT
TZOFFSETFROM:-0600
TZOFFSETTO:-0500
TZNAME:CDT
DTSTART:20220313T080000
END:DAYLIGHT
BEGIN:STANDARD
TZOFFSETFROM:-0500
TZOFFSETTO:-0600
TZNAME:CST
DTSTART:20221106T070000
END:STANDARD
BEGIN:DAYLIGHT
TZOFFSETFROM:-0600
TZOFFSETTO:-0500
TZNAME:CDT
DTSTART:20230312T080000
END:DAYLIGHT
BEGIN:STANDARD
TZOFFSETFROM:-0500
TZOFFSETTO:-0600
TZNAME:CST
DTSTART:20231105T070000
END:STANDARD
BEGIN:DAYLIGHT
TZOFFSETFROM:-0600
TZOFFSETTO:-0500
TZNAME:CDT
DTSTART:20240310T080000
END:DAYLIGHT
BEGIN:STANDARD
TZOFFSETFROM:-0500
TZOFFSETTO:-0600
TZNAME:CST
DTSTART:20241103T070000
END:STANDARD
END:VTIMEZONE
BEGIN:VEVENT
DTSTART;TZID=America/Chicago:20231026T141500
DTEND;TZID=America/Chicago:20231026T161500
DTSTAMP:20260425T093726
CREATED:20231009T200013Z
LAST-MODIFIED:20231017T143540Z
UID:11762-1698329700-1698336900@www.src.edu
SUMMARY:Halloween Movie Event
DESCRIPTION:Come celebrate spooky season\, SRC students! The Diversity Committee and GSA are sponsoring a movie event on Thursday\, October 26th from 2:15-4:15 in Taylor #117\, and all are welcome. There will be FREE fresh popped popcorn\, Halloween candy\, apple cider and hot cocoa with marshmallows (of course) to go along with our scary movie\, Jordan Peele’s masterpiece\, GET OUT. Please come for the snacks\, scares\, and Halloween fun. See you there!
URL:https://www.src.edu/event/halloween-movie-event
LOCATION:Canton Campus\, Taylor Hall Room #117\, 23235 N County Highway 22\, Canton\, IL\, 61520\, United States
CATEGORIES:Upcoming Display
END:VEVENT
END:VCALENDAR