BEGIN:VCALENDAR
VERSION:2.0
PRODID:-//Spoon River College - ECPv6.15.17.1//NONSGML v1.0//EN
CALSCALE:GREGORIAN
METHOD:PUBLISH
X-WR-CALNAME:Spoon River College
X-ORIGINAL-URL:https://www.src.edu
X-WR-CALDESC:Events for Spoon River College
REFRESH-INTERVAL;VALUE=DURATION:PT1H
X-Robots-Tag:noindex
X-PUBLISHED-TTL:PT1H
BEGIN:VTIMEZONE
TZID:America/Chicago
BEGIN:DAYLIGHT
TZOFFSETFROM:-0600
TZOFFSETTO:-0500
TZNAME:CDT
DTSTART:20250309T080000
END:DAYLIGHT
BEGIN:STANDARD
TZOFFSETFROM:-0500
TZOFFSETTO:-0600
TZNAME:CST
DTSTART:20251102T070000
END:STANDARD
BEGIN:DAYLIGHT
TZOFFSETFROM:-0600
TZOFFSETTO:-0500
TZNAME:CDT
DTSTART:20260308T080000
END:DAYLIGHT
BEGIN:STANDARD
TZOFFSETFROM:-0500
TZOFFSETTO:-0600
TZNAME:CST
DTSTART:20261101T070000
END:STANDARD
BEGIN:DAYLIGHT
TZOFFSETFROM:-0600
TZOFFSETTO:-0500
TZNAME:CDT
DTSTART:20270314T080000
END:DAYLIGHT
BEGIN:STANDARD
TZOFFSETFROM:-0500
TZOFFSETTO:-0600
TZNAME:CST
DTSTART:20271107T070000
END:STANDARD
END:VTIMEZONE
BEGIN:VEVENT
DTSTART;TZID=America/Chicago:20260509T100000
DTEND;TZID=America/Chicago:20260509T180000
DTSTAMP:20260425T163634
CREATED:20251216T191507Z
LAST-MODIFIED:20260210T141143Z
UID:20770-1778320800-1778349600@www.src.edu
SUMMARY:2nd Annual Mrs. Roper’s Romp -- Havana
DESCRIPTION:2nd Annual Mrs. Roper’s Romp – May 9\, 2026 – Downtown Havana\, IL  \nBreak out your boldest kaftans\, chunky jewelry\, and full Mrs. Roper attitude\, because the 2nd Annual Mrs. Roper Romp is taking over downtown Havana — and this year’s romp is even more fabulous! \nKick off the morning with breakfast\, then dive into a full day of fun: drink specials\, raffles\, bingo\, live music\, a vibrant boutique crawl\, endless photo ops\, and surprises around every corner. Expect big laughs\, big accessorizing\, and big Florida-chic energy all day long. \nEven better? All money raised will support Spoon River College scholarships for Havana students\, so every kaftan twirl helps open doors for local learners. \n\n Downtown Havana\, IL\nDate & Time: May 9\, 10:00 AM – 6:00 PM\n\nGather your Ropers\, fluff those wigs\, slip into something fabulously flowy\, and let’s ROMP for a cause — Mrs. Roper style! \nBe sure to register today by visiting our Registration Page\, where you can also enter the bags tournament and purchase your own Roper Romp T-shirt!
URL:https://www.src.edu/event/2nd-annual-mrs-ropers-romp-havana
LOCATION:Downtown Havana\, Havana\, IL\, 62644\, United States
END:VEVENT
END:VCALENDAR